BEGIN:VCALENDAR
VERSION:2.0
PRODID:-//The Village at Pacific Highlands Ranch - ECPv4.9.13//NONSGML v1.0//EN
CALSCALE:GREGORIAN
METHOD:PUBLISH
X-WR-CALNAME:The Village at Pacific Highlands Ranch
X-ORIGINAL-URL:https://phrvillage.com
X-WR-CALDESC:Events for The Village at Pacific Highlands Ranch
BEGIN:VTIMEZONE
TZID:UTC
BEGIN:STANDARD
TZOFFSETFROM:+0000
TZOFFSETTO:+0000
TZNAME:UTC
DTSTART:20240101T000000
END:STANDARD
END:VTIMEZONE
BEGIN:VEVENT
DTSTART;TZID=UTC:20240224T130000
DTEND;TZID=UTC:20240224T150000
DTSTAMP:20260421T052045
CREATED:20240223T091019Z
LAST-MODIFIED:20240223T091019Z
UID:17086-1708779600-1708786800@phrvillage.com
SUMMARY:Complimentary Photos with Easter Bunny and Live Music
DESCRIPTION:
URL:https://phrvillage.com/happenings/complimentary-photos-with-easter-bunny-and-live-music/
ATTACH;FMTTYPE=image/jpeg:https://phrvillage.com/wp-content/uploads/2024/02/PHR-EasterBunnyPhotos-SM-1.jpg
END:VEVENT
END:VCALENDAR