BEGIN:VCALENDAR
VERSION:2.0
PRODID:-//The Village at Pacific Highlands Ranch - ECPv4.9.13//NONSGML v1.0//EN
CALSCALE:GREGORIAN
METHOD:PUBLISH
X-WR-CALNAME:The Village at Pacific Highlands Ranch
X-ORIGINAL-URL:https://phrvillage.com
X-WR-CALDESC:Events for The Village at Pacific Highlands Ranch
BEGIN:VTIMEZONE
TZID:UTC
BEGIN:STANDARD
TZOFFSETFROM:+0000
TZOFFSETTO:+0000
TZNAME:UTC
DTSTART:20240101T000000
END:STANDARD
END:VTIMEZONE
BEGIN:VEVENT
DTSTART;TZID=UTC:20241027T103000
DTEND;TZID=UTC:20241027T150000
DTSTAMP:20260421T153044
CREATED:20240912T085017Z
LAST-MODIFIED:20240912T085017Z
UID:17562-1730025000-1730041200@phrvillage.com
SUMMARY:Pacific Social – Football\, Brunch & Kickoff Cocktails
DESCRIPTION:(Every Sat & Sun of College & NFL Football Season) \n
URL:https://phrvillage.com/happenings/pacific-social-football-brunch-kickoff-cocktails/2024-10-27/
END:VEVENT
BEGIN:VEVENT
DTSTART;TZID=UTC:20241027T150000
DTEND;TZID=UTC:20241027T180000
DTSTAMP:20260421T153044
CREATED:20240612T165927Z
LAST-MODIFIED:20240925T083329Z
UID:17477-1730041200-1730052000@phrvillage.com
SUMMARY:Halloween Trick-or-Treat
DESCRIPTION:PHR Hosted \n
URL:https://phrvillage.com/happenings/halloween-trick-or-treat/
ATTACH;FMTTYPE=image/jpeg:https://phrvillage.com/wp-content/uploads/2024/06/PHR-Halloween-SM.jpg
END:VEVENT
END:VCALENDAR