BEGIN:VCALENDAR
VERSION:2.0
PRODID:-//The Village at Pacific Highlands Ranch - ECPv4.9.13//NONSGML v1.0//EN
CALSCALE:GREGORIAN
METHOD:PUBLISH
X-WR-CALNAME:The Village at Pacific Highlands Ranch
X-ORIGINAL-URL:https://phrvillage.com
X-WR-CALDESC:Events for The Village at Pacific Highlands Ranch
BEGIN:VTIMEZONE
TZID:UTC
BEGIN:STANDARD
TZOFFSETFROM:+0000
TZOFFSETTO:+0000
TZNAME:UTC
DTSTART:20240101T000000
END:STANDARD
END:VTIMEZONE
BEGIN:VEVENT
DTSTART;VALUE=DATE:20241106
DTEND;VALUE=DATE:20241107
DTSTAMP:20260422T094617
CREATED:20240814T083911Z
LAST-MODIFIED:20240814T083911Z
UID:17657-1730851200-1730937599@phrvillage.com
SUMMARY:Fleet Feet Runs – Wednesday Runs
DESCRIPTION:6:15pm \n
URL:https://phrvillage.com/happenings/fleet-feet-runs-wednesday-runs/2024-11-06/
END:VEVENT
BEGIN:VEVENT
DTSTART;VALUE=DATE:20241106
DTEND;VALUE=DATE:20241107
DTSTAMP:20260422T094617
CREATED:20240912T090135Z
LAST-MODIFIED:20240912T090316Z
UID:17586-1730851200-1730937599@phrvillage.com
SUMMARY:Pacific Social - Wine Wednesday - Enjoy 50% OFF Select Bottles of Wine
DESCRIPTION:
URL:https://phrvillage.com/happenings/pacific-social-wine-wednesday/2024-11-06/
END:VEVENT
BEGIN:VEVENT
DTSTART;TZID=UTC:20241106T120000
DTEND;TZID=UTC:20241106T120000
DTSTAMP:20260422T094617
CREATED:20241104T154817Z
LAST-MODIFIED:20241104T154817Z
UID:17695-1730894400-1730894400@phrvillage.com
SUMMARY:Le Dimora – Holiday Reveal
DESCRIPTION:
URL:https://phrvillage.com/happenings/le-dimora-holiday-reveal-2/
END:VEVENT
BEGIN:VEVENT
DTSTART;TZID=UTC:20241106T173000
DTEND;TZID=UTC:20241106T203000
DTSTAMP:20260422T094617
CREATED:20241017T110138Z
LAST-MODIFIED:20241017T110138Z
UID:17641-1730914200-1730925000@phrvillage.com
SUMMARY:Amalfi Cucina Italiana – Live Music & Dinner
DESCRIPTION:
URL:https://phrvillage.com/happenings/amalfi-cucina-italiana-live-music-dinner-9/2024-11-06/
END:VEVENT
END:VCALENDAR