BEGIN:VCALENDAR
VERSION:2.0
PRODID:-//The Village at Pacific Highlands Ranch - ECPv4.9.13//NONSGML v1.0//EN
CALSCALE:GREGORIAN
METHOD:PUBLISH
X-WR-CALNAME:The Village at Pacific Highlands Ranch
X-ORIGINAL-URL:https://phrvillage.com
X-WR-CALDESC:Events for The Village at Pacific Highlands Ranch
BEGIN:VTIMEZONE
TZID:UTC
BEGIN:STANDARD
TZOFFSETFROM:+0000
TZOFFSETTO:+0000
TZNAME:UTC
DTSTART:20240101T000000
END:STANDARD
END:VTIMEZONE
BEGIN:VEVENT
DTSTART;VALUE=DATE:20241109
DTEND;VALUE=DATE:20241110
DTSTAMP:20260422T151158
CREATED:20241017T112113Z
LAST-MODIFIED:20241017T112113Z
UID:17670-1731110400-1731196799@phrvillage.com
SUMMARY:El Pueblo Mexican Food - UFC Fight Night – “Magny vs Prates”
DESCRIPTION:Happy Hour & UFC Showing Happy Hour (2-7pm) · Main Event (4pm) \n
URL:https://phrvillage.com/happenings/el-pueblo-mexican-food-ufc-fight-night-magny-vs-prates/
END:VEVENT
BEGIN:VEVENT
DTSTART;VALUE=DATE:20241109
DTEND;VALUE=DATE:20241110
DTSTAMP:20260422T151158
CREATED:20241017T112457Z
LAST-MODIFIED:20241017T112457Z
UID:17683-1731110400-1731196799@phrvillage.com
SUMMARY:Pacific Highlands Ranch Library - Grand Opening
DESCRIPTION:
URL:https://phrvillage.com/happenings/pacific-highlands-ranch-library-grand-opening/
END:VEVENT
BEGIN:VEVENT
DTSTART;TZID=UTC:20241109T103000
DTEND;TZID=UTC:20241109T150000
DTSTAMP:20260422T151158
CREATED:20240912T085017Z
LAST-MODIFIED:20240912T085017Z
UID:17565-1731148200-1731164400@phrvillage.com
SUMMARY:Pacific Social – Football\, Brunch & Kickoff Cocktails
DESCRIPTION:(Every Sat & Sun of College & NFL Football Season) \n
URL:https://phrvillage.com/happenings/pacific-social-football-brunch-kickoff-cocktails/2024-11-09/
END:VEVENT
END:VCALENDAR