BEGIN:VCALENDAR
VERSION:2.0
PRODID:-//The Village at Pacific Highlands Ranch - ECPv4.9.13//NONSGML v1.0//EN
CALSCALE:GREGORIAN
METHOD:PUBLISH
X-WR-CALNAME:The Village at Pacific Highlands Ranch
X-ORIGINAL-URL:https://phrvillage.com
X-WR-CALDESC:Events for The Village at Pacific Highlands Ranch
BEGIN:VTIMEZONE
TZID:UTC
BEGIN:STANDARD
TZOFFSETFROM:+0000
TZOFFSETTO:+0000
TZNAME:UTC
DTSTART:20240101T000000
END:STANDARD
END:VTIMEZONE
BEGIN:VEVENT
DTSTART;VALUE=DATE:20241113
DTEND;VALUE=DATE:20241114
DTSTAMP:20260422T221943
CREATED:20240814T083911Z
LAST-MODIFIED:20240814T083911Z
UID:17658-1731456000-1731542399@phrvillage.com
SUMMARY:Fleet Feet Runs – Wednesday Runs
DESCRIPTION:6:15pm \n
URL:https://phrvillage.com/happenings/fleet-feet-runs-wednesday-runs/2024-11-13/
END:VEVENT
BEGIN:VEVENT
DTSTART;VALUE=DATE:20241113
DTEND;VALUE=DATE:20241114
DTSTAMP:20260422T221943
CREATED:20240912T090135Z
LAST-MODIFIED:20240912T090316Z
UID:17587-1731456000-1731542399@phrvillage.com
SUMMARY:Pacific Social - Wine Wednesday - Enjoy 50% OFF Select Bottles of Wine
DESCRIPTION:
URL:https://phrvillage.com/happenings/pacific-social-wine-wednesday/2024-11-13/
END:VEVENT
BEGIN:VEVENT
DTSTART;VALUE=DATE:20241113
DTEND;VALUE=DATE:20241123
DTSTAMP:20260422T221943
CREATED:20241115T115153Z
LAST-MODIFIED:20241115T115153Z
UID:17711-1731456000-1732319999@phrvillage.com
SUMMARY:Felicia Lewis Group - Mamas Pies
DESCRIPTION:Order Dates 11/13-11/22 – Pick Up at PHR https://mamaspies.org \n
URL:https://phrvillage.com/happenings/felicia-lewis-group-mamas-pies/
END:VEVENT
BEGIN:VEVENT
DTSTART;TZID=UTC:20241113T173000
DTEND;TZID=UTC:20241113T203000
DTSTAMP:20260422T221943
CREATED:20241017T110138Z
LAST-MODIFIED:20241017T110138Z
UID:17642-1731519000-1731529800@phrvillage.com
SUMMARY:Amalfi Cucina Italiana – Live Music & Dinner
DESCRIPTION:
URL:https://phrvillage.com/happenings/amalfi-cucina-italiana-live-music-dinner-9/2024-11-13/
END:VEVENT
END:VCALENDAR