BEGIN:VCALENDAR
VERSION:2.0
PRODID:-//The Village at Pacific Highlands Ranch - ECPv4.9.13//NONSGML v1.0//EN
CALSCALE:GREGORIAN
METHOD:PUBLISH
X-WR-CALNAME:The Village at Pacific Highlands Ranch
X-ORIGINAL-URL:https://phrvillage.com
X-WR-CALDESC:Events for The Village at Pacific Highlands Ranch
BEGIN:VTIMEZONE
TZID:UTC
BEGIN:STANDARD
TZOFFSETFROM:+0000
TZOFFSETTO:+0000
TZNAME:UTC
DTSTART:20240101T000000
END:STANDARD
END:VTIMEZONE
BEGIN:VEVENT
DTSTART;VALUE=DATE:20241113
DTEND;VALUE=DATE:20241123
DTSTAMP:20260423T032753
CREATED:20241115T115153Z
LAST-MODIFIED:20241115T115153Z
UID:17711-1731456000-1732319999@phrvillage.com
SUMMARY:Felicia Lewis Group - Mamas Pies
DESCRIPTION:Order Dates 11/13-11/22 – Pick Up at PHR https://mamaspies.org \n
URL:https://phrvillage.com/happenings/felicia-lewis-group-mamas-pies/
END:VEVENT
BEGIN:VEVENT
DTSTART;VALUE=DATE:20241116
DTEND;VALUE=DATE:20241117
DTSTAMP:20260423T032753
CREATED:20241017T112247Z
LAST-MODIFIED:20241017T112247Z
UID:17675-1731715200-1731801599@phrvillage.com
SUMMARY:El Pueblo Mexican Food - UFC 309 – “Jones vs Miocic”
DESCRIPTION:Happy Hour & UFC Showing Happy Hour (2-7pm) · Main Event (7pm) \n
URL:https://phrvillage.com/happenings/el-pueblo-mexican-food-ufc-309-jones-vs-miocic/
END:VEVENT
BEGIN:VEVENT
DTSTART;TZID=UTC:20241116T103000
DTEND;TZID=UTC:20241116T150000
DTSTAMP:20260423T032753
CREATED:20240912T085017Z
LAST-MODIFIED:20240912T085017Z
UID:17567-1731753000-1731769200@phrvillage.com
SUMMARY:Pacific Social – Football\, Brunch & Kickoff Cocktails
DESCRIPTION:(Every Sat & Sun of College & NFL Football Season) \n
URL:https://phrvillage.com/happenings/pacific-social-football-brunch-kickoff-cocktails/2024-11-16/
END:VEVENT
BEGIN:VEVENT
DTSTART;TZID=UTC:20241116T110000
DTEND;TZID=UTC:20241116T130000
DTSTAMP:20260423T032753
CREATED:20241115T115841Z
LAST-MODIFIED:20241115T115841Z
UID:17730-1731754800-1731762000@phrvillage.com
SUMMARY:Nothing Bundt Cakes – Celebrate our 9th Birthday
DESCRIPTION:Free Bundtlets for a Year – Free Confetti Bundlets – Spin the Wheel for Prizes \n
URL:https://phrvillage.com/happenings/nothing-bundt-cakes-celebrate-our-9th-birthday-2/
END:VEVENT
END:VCALENDAR