BEGIN:VCALENDAR
VERSION:2.0
PRODID:-//The Village at Pacific Highlands Ranch - ECPv4.9.13//NONSGML v1.0//EN
CALSCALE:GREGORIAN
METHOD:PUBLISH
X-WR-CALNAME:The Village at Pacific Highlands Ranch
X-ORIGINAL-URL:https://phrvillage.com
X-WR-CALDESC:Events for The Village at Pacific Highlands Ranch
BEGIN:VTIMEZONE
TZID:UTC
BEGIN:STANDARD
TZOFFSETFROM:+0000
TZOFFSETTO:+0000
TZNAME:UTC
DTSTART:20240101T000000
END:STANDARD
END:VTIMEZONE
BEGIN:VEVENT
DTSTART;TZID=UTC:20241125T130000
DTEND;TZID=UTC:20241127T143000
DTSTAMP:20260423T225402
CREATED:20241115T115408Z
LAST-MODIFIED:20241115T115408Z
UID:17715-1732539600-1732717800@phrvillage.com
SUMMARY:The Artist Lab – Thanksgiving Art Camp
DESCRIPTION:Paint Christmas Tree on Canvases \n
URL:https://phrvillage.com/happenings/the-artist-lab-thanksgiving-art-camp/
END:VEVENT
BEGIN:VEVENT
DTSTART;VALUE=DATE:20241127
DTEND;VALUE=DATE:20241128
DTSTAMP:20260423T225402
CREATED:20240814T083911Z
LAST-MODIFIED:20240814T083911Z
UID:17660-1732665600-1732751999@phrvillage.com
SUMMARY:Fleet Feet Runs – Wednesday Runs
DESCRIPTION:6:15pm \n
URL:https://phrvillage.com/happenings/fleet-feet-runs-wednesday-runs/2024-11-27/
END:VEVENT
BEGIN:VEVENT
DTSTART;VALUE=DATE:20241127
DTEND;VALUE=DATE:20241128
DTSTAMP:20260423T225402
CREATED:20240912T090135Z
LAST-MODIFIED:20240912T090317Z
UID:17589-1732665600-1732751999@phrvillage.com
SUMMARY:Pacific Social - Wine Wednesday - Enjoy 50% OFF Select Bottles of Wine
DESCRIPTION:
URL:https://phrvillage.com/happenings/pacific-social-wine-wednesday/2024-11-27/
END:VEVENT
BEGIN:VEVENT
DTSTART;TZID=UTC:20241127T130000
DTEND;TZID=UTC:20241127T200000
DTSTAMP:20260423T225402
CREATED:20241115T115304Z
LAST-MODIFIED:20241115T115304Z
UID:17713-1732712400-1732737600@phrvillage.com
SUMMARY:Felicia Lewis Group - Mamas Pies
DESCRIPTION:Pick Up at PHR – Pick Up Date 11/27.\nhttps://mamaspies.org \n
URL:https://phrvillage.com/happenings/felicia-lewis-group-mamas-pies-2/
END:VEVENT
BEGIN:VEVENT
DTSTART;TZID=UTC:20241127T173000
DTEND;TZID=UTC:20241127T203000
DTSTAMP:20260423T225403
CREATED:20241017T110138Z
LAST-MODIFIED:20241017T110138Z
UID:17644-1732728600-1732739400@phrvillage.com
SUMMARY:Amalfi Cucina Italiana – Live Music & Dinner
DESCRIPTION:
URL:https://phrvillage.com/happenings/amalfi-cucina-italiana-live-music-dinner-9/2024-11-27/
END:VEVENT
END:VCALENDAR