BEGIN:VCALENDAR
VERSION:2.0
PRODID:-//The Village at Pacific Highlands Ranch - ECPv4.9.13//NONSGML v1.0//EN
CALSCALE:GREGORIAN
METHOD:PUBLISH
X-WR-CALNAME:The Village at Pacific Highlands Ranch
X-ORIGINAL-URL:https://phrvillage.com
X-WR-CALDESC:Events for The Village at Pacific Highlands Ranch
BEGIN:VTIMEZONE
TZID:UTC
BEGIN:STANDARD
TZOFFSETFROM:+0000
TZOFFSETTO:+0000
TZNAME:UTC
DTSTART:20240101T000000
END:STANDARD
END:VTIMEZONE
BEGIN:VEVENT
DTSTART;VALUE=DATE:20241128
DTEND;VALUE=DATE:20241129
DTSTAMP:20260424T003646
CREATED:20241104T154848Z
LAST-MODIFIED:20241104T154848Z
UID:17697-1732752000-1732838399@phrvillage.com
SUMMARY:Fleet Feet – Thanksgiving Day 5K
DESCRIPTION:Register Now \n
URL:https://phrvillage.com/happenings/fleet-feet-thanksgiving-day-5k-2/
END:VEVENT
END:VCALENDAR