BEGIN:VCALENDAR
VERSION:2.0
PRODID:-//The Village at Pacific Highlands Ranch - ECPv4.9.13//NONSGML v1.0//EN
CALSCALE:GREGORIAN
METHOD:PUBLISH
X-WR-CALNAME:The Village at Pacific Highlands Ranch
X-ORIGINAL-URL:https://phrvillage.com
X-WR-CALDESC:Events for The Village at Pacific Highlands Ranch
BEGIN:VTIMEZONE
TZID:UTC
BEGIN:STANDARD
TZOFFSETFROM:+0000
TZOFFSETTO:+0000
TZNAME:UTC
DTSTART:20240101T000000
END:STANDARD
END:VTIMEZONE
BEGIN:VEVENT
DTSTART;VALUE=DATE:20241201
DTEND;VALUE=DATE:20241216
DTSTAMP:20260424T104531
CREATED:20241115T120033Z
LAST-MODIFIED:20241115T120033Z
UID:17733-1733011200-1734307199@phrvillage.com
SUMMARY:Holiday Gift Drive
DESCRIPTION:
URL:https://phrvillage.com/happenings/holiday-gift-drive/
ATTACH;FMTTYPE=image/jpeg:https://phrvillage.com/wp-content/uploads/2024/11/PHR-Corazon-De-Vida-Holiday-Campaign-SM3.jpg
END:VEVENT
BEGIN:VEVENT
DTSTART;VALUE=DATE:20241204
DTEND;VALUE=DATE:20241205
DTSTAMP:20260424T104532
CREATED:20240814T083911Z
LAST-MODIFIED:20240814T083911Z
UID:17661-1733270400-1733356799@phrvillage.com
SUMMARY:Fleet Feet Runs – Wednesday Runs
DESCRIPTION:6:15pm \n
URL:https://phrvillage.com/happenings/fleet-feet-runs-wednesday-runs/2024-12-04/
END:VEVENT
BEGIN:VEVENT
DTSTART;VALUE=DATE:20241204
DTEND;VALUE=DATE:20241205
DTSTAMP:20260424T104532
CREATED:20241115T115512Z
LAST-MODIFIED:20241115T115512Z
UID:17717-1733270400-1733356799@phrvillage.com
SUMMARY:Pacific Social - Wine Wednesday - Enjoy 50% OFF Select Bottles of Wine
DESCRIPTION:
URL:https://phrvillage.com/happenings/pacific-social-wine-wednesday-enjoy-50-off-select-bottles-of-wine-2/2024-12-04/
END:VEVENT
BEGIN:VEVENT
DTSTART;TZID=UTC:20241204T173000
DTEND;TZID=UTC:20241204T203000
DTSTAMP:20260424T104532
CREATED:20241017T110138Z
LAST-MODIFIED:20241017T110138Z
UID:17645-1733333400-1733344200@phrvillage.com
SUMMARY:Amalfi Cucina Italiana – Live Music & Dinner
DESCRIPTION:
URL:https://phrvillage.com/happenings/amalfi-cucina-italiana-live-music-dinner-9/2024-12-04/
END:VEVENT
END:VCALENDAR