BEGIN:VCALENDAR
VERSION:2.0
PRODID:-//The Village at Pacific Highlands Ranch - ECPv4.9.13//NONSGML v1.0//EN
CALSCALE:GREGORIAN
METHOD:PUBLISH
X-WR-CALNAME:The Village at Pacific Highlands Ranch
X-ORIGINAL-URL:https://phrvillage.com
X-WR-CALDESC:Events for The Village at Pacific Highlands Ranch
BEGIN:VTIMEZONE
TZID:UTC
BEGIN:STANDARD
TZOFFSETFROM:+0000
TZOFFSETTO:+0000
TZNAME:UTC
DTSTART:20220101T000000
END:STANDARD
END:VTIMEZONE
BEGIN:VEVENT
DTSTART;TZID=UTC:20220507T110000
DTEND;TZID=UTC:20220507T150000
DTSTAMP:20260419T124246
CREATED:20220426T144552Z
LAST-MODIFIED:20220426T144552Z
UID:16048-1651921200-1651935600@phrvillage.com
SUMMARY:Alex’s Lemonade Stand Fundraiser
DESCRIPTION:
URL:https://phrvillage.com/happenings/alexs-lemonade-stand-fundraiser/
END:VEVENT
END:VCALENDAR