BEGIN:VCALENDAR
VERSION:2.0
PRODID:-//The Village at Pacific Highlands Ranch - ECPv4.9.13//NONSGML v1.0//EN
CALSCALE:GREGORIAN
METHOD:PUBLISH
X-WR-CALNAME:The Village at Pacific Highlands Ranch
X-ORIGINAL-URL:https://phrvillage.com
X-WR-CALDESC:Events for The Village at Pacific Highlands Ranch
BEGIN:VTIMEZONE
TZID:UTC
BEGIN:STANDARD
TZOFFSETFROM:+0000
TZOFFSETTO:+0000
TZNAME:UTC
DTSTART:20260101T000000
END:STANDARD
END:VTIMEZONE
BEGIN:VEVENT
DTSTART;TZID=UTC:20260212T180000
DTEND;TZID=UTC:20260212T200000
DTSTAMP:20260420T093132
CREATED:20260210T021751Z
LAST-MODIFIED:20260210T021751Z
UID:18229-1770919200-1770926400@phrvillage.com
SUMMARY:Amalfi Italiana Cucina – “Wine Dinner with Amarone”
DESCRIPTION:Amalfi Italiana Cucina – “Wine Dinner with Amarone” \nCelebrate Valentine’s Day Early  with a Special Dinner with 5 Courses & Wine Pairing –$95/pp \n
URL:https://phrvillage.com/happenings/amalfi-italiana-cucina-wine-dinner-with-amarone/
END:VEVENT
END:VCALENDAR