BEGIN:VCALENDAR
VERSION:2.0
PRODID:-//The Village at Pacific Highlands Ranch - ECPv4.9.13//NONSGML v1.0//EN
CALSCALE:GREGORIAN
METHOD:PUBLISH
X-WR-CALNAME:The Village at Pacific Highlands Ranch
X-ORIGINAL-URL:https://phrvillage.com
X-WR-CALDESC:Events for The Village at Pacific Highlands Ranch
BEGIN:VTIMEZONE
TZID:UTC
BEGIN:STANDARD
TZOFFSETFROM:+0000
TZOFFSETTO:+0000
TZNAME:UTC
DTSTART:20250101T000000
END:STANDARD
END:VTIMEZONE
BEGIN:VEVENT
DTSTART;VALUE=DATE:20250926
DTEND;VALUE=DATE:20250929
DTSTAMP:20260420T111634
CREATED:20250813T095130Z
LAST-MODIFIED:20250813T095130Z
UID:18000-1758844800-1759103999@phrvillage.com
SUMMARY:America’s Air Show - Miramar Air Show
DESCRIPTION:MCAS Miramar \n
URL:https://phrvillage.com/happenings/americas-air-show-miramar-air-show/
END:VEVENT
END:VCALENDAR