BEGIN:VCALENDAR
VERSION:2.0
PRODID:-//The Village at Pacific Highlands Ranch - ECPv4.9.13//NONSGML v1.0//EN
CALSCALE:GREGORIAN
METHOD:PUBLISH
X-WR-CALNAME:The Village at Pacific Highlands Ranch
X-ORIGINAL-URL:https://phrvillage.com
X-WR-CALDESC:Events for The Village at Pacific Highlands Ranch
BEGIN:VTIMEZONE
TZID:UTC
BEGIN:STANDARD
TZOFFSETFROM:+0000
TZOFFSETTO:+0000
TZNAME:UTC
DTSTART:20210101T000000
END:STANDARD
END:VTIMEZONE
BEGIN:VEVENT
DTSTART;TZID=UTC:20211031T110000
DTEND;TZID=UTC:20211031T150000
DTSTAMP:20260419T222843
CREATED:20211007T085100Z
LAST-MODIFIED:20211014T082800Z
UID:15632-1635678000-1635692400@phrvillage.com
SUMMARY:Be Like You – Bully Prevention & Awareness (By the PHR Heart)
DESCRIPTION:
URL:https://phrvillage.com/happenings/be-like-you-bully-prevention-awareness-by-the-phr-heart/
END:VEVENT
END:VCALENDAR