BEGIN:VCALENDAR
VERSION:2.0
PRODID:-//The Village at Pacific Highlands Ranch - ECPv4.9.13//NONSGML v1.0//EN
CALSCALE:GREGORIAN
METHOD:PUBLISH
X-WR-CALNAME:The Village at Pacific Highlands Ranch
X-ORIGINAL-URL:https://phrvillage.com
X-WR-CALDESC:Events for The Village at Pacific Highlands Ranch
BEGIN:VTIMEZONE
TZID:UTC
BEGIN:STANDARD
TZOFFSETFROM:+0000
TZOFFSETTO:+0000
TZNAME:UTC
DTSTART:20210101T000000
END:STANDARD
END:VTIMEZONE
BEGIN:VEVENT
DTSTART;VALUE=DATE:20210526
DTEND;VALUE=DATE:20210527
DTSTAMP:20260420T032524
CREATED:20210513T145626Z
LAST-MODIFIED:20210513T145626Z
UID:15362-1621987200-1622073599@phrvillage.com
SUMMARY:Blood Drive at PHR
DESCRIPTION:San Diego Blood Bank \n
URL:https://phrvillage.com/happenings/blood-drive-at-phr/
END:VEVENT
END:VCALENDAR