BEGIN:VCALENDAR
VERSION:2.0
PRODID:-//The Village at Pacific Highlands Ranch - ECPv4.9.13//NONSGML v1.0//EN
CALSCALE:GREGORIAN
METHOD:PUBLISH
X-WR-CALNAME:The Village at Pacific Highlands Ranch
X-ORIGINAL-URL:https://phrvillage.com
X-WR-CALDESC:Events for The Village at Pacific Highlands Ranch
BEGIN:VTIMEZONE
TZID:UTC
BEGIN:STANDARD
TZOFFSETFROM:+0000
TZOFFSETTO:+0000
TZNAME:UTC
DTSTART:20210101T000000
END:STANDARD
END:VTIMEZONE
BEGIN:VEVENT
DTSTART;TZID=UTC:20210314T093000
DTEND;TZID=UTC:20210314T143000
DTSTAMP:20260419T230025
CREATED:20210317T145708Z
LAST-MODIFIED:20210317T145708Z
UID:15164-1615714200-1615732200@phrvillage.com
SUMMARY:Brunch at Flora & Live Music
DESCRIPTION:Live Music from 10:30 am – 1:30 pm \n
URL:https://phrvillage.com/happenings/brunch-at-flora-live-music-3/2021-03-14/
END:VEVENT
END:VCALENDAR