BEGIN:VCALENDAR
VERSION:2.0
PRODID:-//The Village at Pacific Highlands Ranch - ECPv4.9.13//NONSGML v1.0//EN
CALSCALE:GREGORIAN
METHOD:PUBLISH
X-WR-CALNAME:The Village at Pacific Highlands Ranch
X-ORIGINAL-URL:https://phrvillage.com
X-WR-CALDESC:Events for The Village at Pacific Highlands Ranch
BEGIN:VTIMEZONE
TZID:UTC
BEGIN:STANDARD
TZOFFSETFROM:+0000
TZOFFSETTO:+0000
TZNAME:UTC
DTSTART:20210101T000000
END:STANDARD
END:VTIMEZONE
BEGIN:VEVENT
DTSTART;VALUE=DATE:20210909
DTEND;VALUE=DATE:20210910
DTSTAMP:20260419T210552
CREATED:20210908T095528Z
LAST-MODIFIED:20210908T095528Z
UID:15564-1631145600-1631231999@phrvillage.com
SUMMARY:Cleaners & More – 20% Off Thursdays!
DESCRIPTION:20% Off for Dry Cleaning to All Customers – Drop Off on Thursdays – September Only \n
URL:https://phrvillage.com/happenings/cleaners-more-20-off-thursdays/2021-09-09/
END:VEVENT
END:VCALENDAR