BEGIN:VCALENDAR
VERSION:2.0
PRODID:-//The Village at Pacific Highlands Ranch - ECPv4.9.13//NONSGML v1.0//EN
CALSCALE:GREGORIAN
METHOD:PUBLISH
X-WR-CALNAME:The Village at Pacific Highlands Ranch
X-ORIGINAL-URL:https://phrvillage.com
X-WR-CALDESC:Events for The Village at Pacific Highlands Ranch
BEGIN:VTIMEZONE
TZID:UTC
BEGIN:STANDARD
TZOFFSETFROM:+0000
TZOFFSETTO:+0000
TZNAME:UTC
DTSTART:20220101T000000
END:STANDARD
END:VTIMEZONE
BEGIN:VEVENT
DTSTART;TZID=UTC:20220506T173000
DTEND;TZID=UTC:20220506T203000
DTSTAMP:20260419T135816
CREATED:20220426T143959Z
LAST-MODIFIED:20220426T143959Z
UID:16018-1651858200-1651869000@phrvillage.com
SUMMARY:Death By Tequila - DJ Night
DESCRIPTION:
URL:https://phrvillage.com/happenings/death-by-tequila-dj-night/2022-05-06/
END:VEVENT
END:VCALENDAR