BEGIN:VCALENDAR
VERSION:2.0
PRODID:-//The Village at Pacific Highlands Ranch - ECPv4.9.13//NONSGML v1.0//EN
CALSCALE:GREGORIAN
METHOD:PUBLISH
X-WR-CALNAME:The Village at Pacific Highlands Ranch
X-ORIGINAL-URL:https://phrvillage.com
X-WR-CALDESC:Events for The Village at Pacific Highlands Ranch
BEGIN:VTIMEZONE
TZID:UTC
BEGIN:STANDARD
TZOFFSETFROM:+0000
TZOFFSETTO:+0000
TZNAME:UTC
DTSTART:20210101T000000
END:STANDARD
END:VTIMEZONE
BEGIN:VEVENT
DTSTART;TZID=UTC:20210408T173000
DTEND;TZID=UTC:20210408T173000
DTSTAMP:20260419T235613
CREATED:20210330T094914Z
LAST-MODIFIED:20210330T094914Z
UID:15193-1617903000-1617903000@phrvillage.com
SUMMARY:Death by Tequila (DxT) - Tequila Dinner
DESCRIPTION:5 Course Dinner & Cocktail Pairings Prepared by Executive Chef Chris Carriker. \nEnjoy cocktail hour\, crafted appetizers\, a 5 course dinner paired with Azunia sips & each person will leave with a gifted 375ml Bottle of Azunia Tequila for a night to remember. \nTickets: https://www.toasttab.com/dxtholidaykitchen/v3/?mode=fulfillment \n
URL:https://phrvillage.com/happenings/death-by-tequila-dxt-tequila-dinner/
END:VEVENT
END:VCALENDAR