BEGIN:VCALENDAR
VERSION:2.0
PRODID:-//The Village at Pacific Highlands Ranch - ECPv4.9.13//NONSGML v1.0//EN
CALSCALE:GREGORIAN
METHOD:PUBLISH
X-WR-CALNAME:The Village at Pacific Highlands Ranch
X-ORIGINAL-URL:https://phrvillage.com
X-WR-CALDESC:Events for The Village at Pacific Highlands Ranch
BEGIN:VTIMEZONE
TZID:UTC
BEGIN:STANDARD
TZOFFSETFROM:+0000
TZOFFSETTO:+0000
TZNAME:UTC
DTSTART:20210101T000000
END:STANDARD
END:VTIMEZONE
BEGIN:VEVENT
DTSTART;VALUE=DATE:20210916
DTEND;VALUE=DATE:20210917
DTSTAMP:20260419T221627
CREATED:20210908T095910Z
LAST-MODIFIED:20210908T095910Z
UID:15575-1631750400-1631836799@phrvillage.com
SUMMARY:Death by Tequila – Mexican Independence Day at DxT
DESCRIPTION:
URL:https://phrvillage.com/happenings/death-by-tequila-mexican-independence-day-at-dxt/
END:VEVENT
END:VCALENDAR