BEGIN:VCALENDAR
VERSION:2.0
PRODID:-//The Village at Pacific Highlands Ranch - ECPv4.9.13//NONSGML v1.0//EN
CALSCALE:GREGORIAN
METHOD:PUBLISH
X-WR-CALNAME:The Village at Pacific Highlands Ranch
X-ORIGINAL-URL:https://phrvillage.com
X-WR-CALDESC:Events for The Village at Pacific Highlands Ranch
BEGIN:VTIMEZONE
TZID:UTC
BEGIN:STANDARD
TZOFFSETFROM:+0000
TZOFFSETTO:+0000
TZNAME:UTC
DTSTART:20210101T000000
END:STANDARD
END:VTIMEZONE
BEGIN:VEVENT
DTSTART;TZID=UTC:20211021T183000
DTEND;TZID=UTC:20211021T183000
DTSTAMP:20260419T221427
CREATED:20211014T082911Z
LAST-MODIFIED:20211014T082911Z
UID:15677-1634841000-1634841000@phrvillage.com
SUMMARY:Death By Tequila – Tequila Dinner – 5 Course Pairing Dinner
DESCRIPTION:
URL:https://phrvillage.com/happenings/death-by-tequila-tequila-dinner-5-course-pairing-dinner/
END:VEVENT
END:VCALENDAR