BEGIN:VCALENDAR
VERSION:2.0
PRODID:-//The Village at Pacific Highlands Ranch - ECPv4.9.13//NONSGML v1.0//EN
CALSCALE:GREGORIAN
METHOD:PUBLISH
X-WR-CALNAME:The Village at Pacific Highlands Ranch
X-ORIGINAL-URL:https://phrvillage.com
X-WR-CALDESC:Events for The Village at Pacific Highlands Ranch
BEGIN:VTIMEZONE
TZID:UTC
BEGIN:STANDARD
TZOFFSETFROM:+0000
TZOFFSETTO:+0000
TZNAME:UTC
DTSTART:20210101T000000
END:STANDARD
END:VTIMEZONE
BEGIN:VEVENT
DTSTART;TZID=UTC:20210214T160000
DTEND;TZID=UTC:20210214T213000
DTSTAMP:20260420T071115
CREATED:20210210T123613Z
LAST-MODIFIED:20210210T123613Z
UID:15080-1613318400-1613338200@phrvillage.com
SUMMARY:Dining at Flora & Live Music
DESCRIPTION:Live Music from 6:30 pm – 9:30 pm with Barry Allen Cohen:\nhttps://www.barryallencohen.com/about \n
URL:https://phrvillage.com/happenings/dining-at-flora-live-music/
END:VEVENT
END:VCALENDAR