BEGIN:VCALENDAR
VERSION:2.0
PRODID:-//The Village at Pacific Highlands Ranch - ECPv4.9.13//NONSGML v1.0//EN
CALSCALE:GREGORIAN
METHOD:PUBLISH
X-WR-CALNAME:The Village at Pacific Highlands Ranch
X-ORIGINAL-URL:https://phrvillage.com
X-WR-CALDESC:Events for The Village at Pacific Highlands Ranch
BEGIN:VTIMEZONE
TZID:UTC
BEGIN:STANDARD
TZOFFSETFROM:+0000
TZOFFSETTO:+0000
TZNAME:UTC
DTSTART:20220101T000000
END:STANDARD
END:VTIMEZONE
BEGIN:VEVENT
DTSTART;VALUE=DATE:20220211
DTEND;VALUE=DATE:20220212
DTSTAMP:20260419T163401
CREATED:20220208T125332Z
LAST-MODIFIED:20220208T125332Z
UID:15938-1644537600-1644623999@phrvillage.com
SUMMARY:DxT - Valentine’s Four-Course Dinner Special
DESCRIPTION:
URL:https://phrvillage.com/happenings/dxt-valentines-four-course-dinner-special/2022-02-11/
END:VEVENT
END:VCALENDAR