BEGIN:VCALENDAR
VERSION:2.0
PRODID:-//The Village at Pacific Highlands Ranch - ECPv4.9.13//NONSGML v1.0//EN
CALSCALE:GREGORIAN
METHOD:PUBLISH
X-WR-CALNAME:The Village at Pacific Highlands Ranch
X-ORIGINAL-URL:https://phrvillage.com
X-WR-CALDESC:Events for The Village at Pacific Highlands Ranch
BEGIN:VTIMEZONE
TZID:UTC
BEGIN:STANDARD
TZOFFSETFROM:+0000
TZOFFSETTO:+0000
TZNAME:UTC
DTSTART:20210101T000000
END:STANDARD
END:VTIMEZONE
BEGIN:VEVENT
DTSTART;TZID=UTC:20210515T120000
DTEND;TZID=UTC:20210515T130000
DTSTAMP:20260420T062433
CREATED:20210513T144324Z
LAST-MODIFIED:20210908T094446Z
UID:15349-1621080000-1621083600@phrvillage.com
SUMMARY:DxT/Wokou – Margs & Meditation
DESCRIPTION:Regularly occurring yoga offering on Lot 18 \n
URL:https://phrvillage.com/happenings/dxt-wokou-margs-meditation/2021-05-15/
END:VEVENT
END:VCALENDAR