BEGIN:VCALENDAR
VERSION:2.0
PRODID:-//The Village at Pacific Highlands Ranch - ECPv4.9.13//NONSGML v1.0//EN
CALSCALE:GREGORIAN
METHOD:PUBLISH
X-WR-CALNAME:The Village at Pacific Highlands Ranch
X-ORIGINAL-URL:https://phrvillage.com
X-WR-CALDESC:Events for The Village at Pacific Highlands Ranch
BEGIN:VTIMEZONE
TZID:UTC
BEGIN:STANDARD
TZOFFSETFROM:+0000
TZOFFSETTO:+0000
TZNAME:UTC
DTSTART:20240101T000000
END:STANDARD
END:VTIMEZONE
BEGIN:VEVENT
DTSTART;VALUE=DATE:20241026
DTEND;VALUE=DATE:20241027
DTSTAMP:20260421T153514
CREATED:20241017T111445Z
LAST-MODIFIED:20241017T112141Z
UID:17666-1729900800-1729987199@phrvillage.com
SUMMARY:El Pueblo Mexican Food - UFC Fight 308 – “Topuria vs Holloway”
DESCRIPTION:Happy Hour & UFC Showing Happy Hour (2-7pm) · Main Event (6pm) \n
URL:https://phrvillage.com/happenings/el-pueblo-mexican-food-ufc-fight-308-topuria-vs-holloway/
END:VEVENT
END:VCALENDAR