BEGIN:VCALENDAR
VERSION:2.0
PRODID:-//The Village at Pacific Highlands Ranch - ECPv4.9.13//NONSGML v1.0//EN
CALSCALE:GREGORIAN
METHOD:PUBLISH
X-WR-CALNAME:The Village at Pacific Highlands Ranch
X-ORIGINAL-URL:https://phrvillage.com
X-WR-CALDESC:Events for The Village at Pacific Highlands Ranch
BEGIN:VTIMEZONE
TZID:UTC
BEGIN:STANDARD
TZOFFSETFROM:+0000
TZOFFSETTO:+0000
TZNAME:UTC
DTSTART:20250101T000000
END:STANDARD
END:VTIMEZONE
BEGIN:VEVENT
DTSTART;VALUE=DATE:20250827
DTEND;VALUE=DATE:20250828
DTSTAMP:20260420T105425
CREATED:20250813T101046Z
LAST-MODIFIED:20250813T101046Z
UID:18015-1756252800-1756339199@phrvillage.com
SUMMARY:Fleet Feet – Trail Shoe Demos & Trail Runs – “Asics Trabucco 13”
DESCRIPTION:
URL:https://phrvillage.com/happenings/fleet-feet-trail-shoe-demos-trail-runs-asics-trabucco-13/
END:VEVENT
END:VCALENDAR