BEGIN:VCALENDAR
VERSION:2.0
PRODID:-//The Village at Pacific Highlands Ranch - ECPv4.9.13//NONSGML v1.0//EN
CALSCALE:GREGORIAN
METHOD:PUBLISH
X-WR-CALNAME:The Village at Pacific Highlands Ranch
X-ORIGINAL-URL:https://phrvillage.com
X-WR-CALDESC:Events for The Village at Pacific Highlands Ranch
BEGIN:VTIMEZONE
TZID:UTC
BEGIN:STANDARD
TZOFFSETFROM:+0000
TZOFFSETTO:+0000
TZNAME:UTC
DTSTART:20210101T000000
END:STANDARD
END:VTIMEZONE
BEGIN:VEVENT
DTSTART;TZID=UTC:20211001T210000
DTEND;TZID=UTC:20211001T210000
DTSTAMP:20260420T032454
CREATED:20210927T082259Z
LAST-MODIFIED:20210927T082259Z
UID:15627-1633122000-1633122000@phrvillage.com
SUMMARY:Flora - Black & White Party
DESCRIPTION:Vibe\, Music & Dine – Make Reservation \n
URL:https://phrvillage.com/happenings/flora-black-white-party/
END:VEVENT
END:VCALENDAR