BEGIN:VCALENDAR
VERSION:2.0
PRODID:-//The Village at Pacific Highlands Ranch - ECPv4.9.13//NONSGML v1.0//EN
CALSCALE:GREGORIAN
METHOD:PUBLISH
X-WR-CALNAME:The Village at Pacific Highlands Ranch
X-ORIGINAL-URL:https://phrvillage.com
X-WR-CALDESC:Events for The Village at Pacific Highlands Ranch
BEGIN:VTIMEZONE
TZID:UTC
BEGIN:STANDARD
TZOFFSETFROM:+0000
TZOFFSETTO:+0000
TZNAME:UTC
DTSTART:20220101T000000
END:STANDARD
END:VTIMEZONE
BEGIN:VEVENT
DTSTART;TZID=UTC:20221022T200000
DTEND;TZID=UTC:20221022T200000
DTSTAMP:20260421T141449
CREATED:20220914T090129Z
LAST-MODIFIED:20220914T090129Z
UID:16289-1666468800-1666468800@phrvillage.com
SUMMARY:Flora – Dinner & Live Music with Michael Battista
DESCRIPTION:
URL:https://phrvillage.com/happenings/flora-dinner-live-music-with-michael-battista-3/
END:VEVENT
END:VCALENDAR