BEGIN:VCALENDAR
VERSION:2.0
PRODID:-//The Village at Pacific Highlands Ranch - ECPv4.9.13//NONSGML v1.0//EN
CALSCALE:GREGORIAN
METHOD:PUBLISH
X-WR-CALNAME:The Village at Pacific Highlands Ranch
X-ORIGINAL-URL:https://phrvillage.com
X-WR-CALDESC:Events for The Village at Pacific Highlands Ranch
BEGIN:VTIMEZONE
TZID:UTC
BEGIN:STANDARD
TZOFFSETFROM:+0000
TZOFFSETTO:+0000
TZNAME:UTC
DTSTART:20210101T000000
END:STANDARD
END:VTIMEZONE
BEGIN:VEVENT
DTSTART;TZID=UTC:20210401T193000
DTEND;TZID=UTC:20210401T223000
DTSTAMP:20260419T223441
CREATED:20210330T100416Z
LAST-MODIFIED:20210330T100416Z
UID:15205-1617305400-1617316200@phrvillage.com
SUMMARY:Flora - Live Music - Barry Cohen Performing
DESCRIPTION:Barry Bash: Celebrating Barry Cohen & His Birthday \n
URL:https://phrvillage.com/happenings/flora-live-music-barry-cohen-performing/
END:VEVENT
END:VCALENDAR