BEGIN:VCALENDAR
VERSION:2.0
PRODID:-//The Village at Pacific Highlands Ranch - ECPv4.9.13//NONSGML v1.0//EN
CALSCALE:GREGORIAN
METHOD:PUBLISH
X-WR-CALNAME:The Village at Pacific Highlands Ranch
X-ORIGINAL-URL:https://phrvillage.com
X-WR-CALDESC:Events for The Village at Pacific Highlands Ranch
BEGIN:VTIMEZONE
TZID:UTC
BEGIN:STANDARD
TZOFFSETFROM:+0000
TZOFFSETTO:+0000
TZNAME:UTC
DTSTART:20210101T000000
END:STANDARD
END:VTIMEZONE
BEGIN:VEVENT
DTSTART;TZID=UTC:20210410T193000
DTEND;TZID=UTC:20210410T193000
DTSTAMP:20260420T012552
CREATED:20210330T100631Z
LAST-MODIFIED:20210330T100631Z
UID:15233-1618083000-1618083000@phrvillage.com
SUMMARY:Flora - Live Music - Kristi Krause Performing
DESCRIPTION:
URL:https://phrvillage.com/happenings/flora-live-music-kristi-krause-performing/
END:VEVENT
END:VCALENDAR