BEGIN:VCALENDAR
VERSION:2.0
PRODID:-//The Village at Pacific Highlands Ranch - ECPv4.9.13//NONSGML v1.0//EN
CALSCALE:GREGORIAN
METHOD:PUBLISH
X-WR-CALNAME:The Village at Pacific Highlands Ranch
X-ORIGINAL-URL:https://phrvillage.com
X-WR-CALDESC:Events for The Village at Pacific Highlands Ranch
BEGIN:VTIMEZONE
TZID:UTC
BEGIN:STANDARD
TZOFFSETFROM:+0000
TZOFFSETTO:+0000
TZNAME:UTC
DTSTART:20220101T000000
END:STANDARD
END:VTIMEZONE
BEGIN:VEVENT
DTSTART;TZID=UTC:20220212T200000
DTEND;TZID=UTC:20220212T200000
DTSTAMP:20260419T154237
CREATED:20220208T124455Z
LAST-MODIFIED:20220208T124512Z
UID:15911-1644696000-1644696000@phrvillage.com
SUMMARY:FLORA - Naughty Valentine’s (Music & Party)
DESCRIPTION:8pm – Close \n
URL:https://phrvillage.com/happenings/flora-naughty-valentines-music-party/
END:VEVENT
END:VCALENDAR