BEGIN:VCALENDAR
VERSION:2.0
PRODID:-//The Village at Pacific Highlands Ranch - ECPv4.9.13//NONSGML v1.0//EN
CALSCALE:GREGORIAN
METHOD:PUBLISH
X-WR-CALNAME:The Village at Pacific Highlands Ranch
X-ORIGINAL-URL:https://phrvillage.com
X-WR-CALDESC:Events for The Village at Pacific Highlands Ranch
BEGIN:VTIMEZONE
TZID:UTC
BEGIN:STANDARD
TZOFFSETFROM:+0000
TZOFFSETTO:+0000
TZNAME:UTC
DTSTART:20210101T000000
END:STANDARD
END:VTIMEZONE
BEGIN:VEVENT
DTSTART;VALUE=DATE:20210411
DTEND;VALUE=DATE:20210419
DTSTAMP:20260419T235427
CREATED:20210330T095038Z
LAST-MODIFIED:20210415T085932Z
UID:15195-1618099200-1618790399@phrvillage.com
SUMMARY:Flora - San Diego Restaurant Week
DESCRIPTION:Three Courses $40 – Reserve Your Seat\, Call 858.461.0622 \n
URL:https://phrvillage.com/happenings/flora-restaurant-week/
END:VEVENT
END:VCALENDAR