BEGIN:VCALENDAR
VERSION:2.0
PRODID:-//The Village at Pacific Highlands Ranch - ECPv4.9.13//NONSGML v1.0//EN
CALSCALE:GREGORIAN
METHOD:PUBLISH
X-WR-CALNAME:The Village at Pacific Highlands Ranch
X-ORIGINAL-URL:https://phrvillage.com
X-WR-CALDESC:Events for The Village at Pacific Highlands Ranch
BEGIN:VTIMEZONE
TZID:UTC
BEGIN:STANDARD
TZOFFSETFROM:+0000
TZOFFSETTO:+0000
TZNAME:UTC
DTSTART:20210101T000000
END:STANDARD
END:VTIMEZONE
BEGIN:VEVENT
DTSTART;VALUE=DATE:20210926
DTEND;VALUE=DATE:20211004
DTSTAMP:20260420T001402
CREATED:20210927T082344Z
LAST-MODIFIED:20210927T082344Z
UID:15629-1632614400-1633305599@phrvillage.com
SUMMARY:Flora - SD Restaurant Week
DESCRIPTION:Make Reservation \n
URL:https://phrvillage.com/happenings/flora-sd-restaurant-week/
END:VEVENT
END:VCALENDAR