BEGIN:VCALENDAR
VERSION:2.0
PRODID:-//The Village at Pacific Highlands Ranch - ECPv4.9.13//NONSGML v1.0//EN
CALSCALE:GREGORIAN
METHOD:PUBLISH
X-WR-CALNAME:The Village at Pacific Highlands Ranch
X-ORIGINAL-URL:https://phrvillage.com
X-WR-CALDESC:Events for The Village at Pacific Highlands Ranch
BEGIN:VTIMEZONE
TZID:UTC
BEGIN:STANDARD
TZOFFSETFROM:+0000
TZOFFSETTO:+0000
TZNAME:UTC
DTSTART:20220101T000000
END:STANDARD
END:VTIMEZONE
BEGIN:VEVENT
DTSTART;VALUE=DATE:20220427
DTEND;VALUE=DATE:20220620
DTSTAMP:20260419T123516
CREATED:20220426T145531Z
LAST-MODIFIED:20220426T145531Z
UID:16058-1651017600-1655683199@phrvillage.com
SUMMARY:Fresh Brothers – Spring Gift Card Promo
DESCRIPTION:Purchase $50 in gift cards & receive a free $10 bonus card \n
URL:https://phrvillage.com/happenings/fresh-brothers-spring-gift-card-promo/
END:VEVENT
END:VCALENDAR