BEGIN:VCALENDAR
VERSION:2.0
PRODID:-//The Village at Pacific Highlands Ranch - ECPv4.9.13//NONSGML v1.0//EN
CALSCALE:GREGORIAN
METHOD:PUBLISH
X-WR-CALNAME:The Village at Pacific Highlands Ranch
X-ORIGINAL-URL:https://phrvillage.com
X-WR-CALDESC:Events for The Village at Pacific Highlands Ranch
BEGIN:VTIMEZONE
TZID:UTC
BEGIN:STANDARD
TZOFFSETFROM:+0000
TZOFFSETTO:+0000
TZNAME:UTC
DTSTART:20210101T000000
END:STANDARD
END:VTIMEZONE
BEGIN:VEVENT
DTSTART;TZID=UTC:20210402T180000
DTEND;TZID=UTC:20210402T220000
DTSTAMP:20260419T215317
CREATED:20210317T164908Z
LAST-MODIFIED:20210317T164908Z
UID:15177-1617386400-1617400800@phrvillage.com
SUMMARY:Friday Feels – Wokou & DxT Live Music Dinner Experience
DESCRIPTION:
URL:https://phrvillage.com/happenings/friday-feels-wokou-dxt-live-music-dinner-experience/2021-04-02/
END:VEVENT
END:VCALENDAR