BEGIN:VCALENDAR
VERSION:2.0
PRODID:-//The Village at Pacific Highlands Ranch - ECPv4.9.13//NONSGML v1.0//EN
CALSCALE:GREGORIAN
METHOD:PUBLISH
X-WR-CALNAME:The Village at Pacific Highlands Ranch
X-ORIGINAL-URL:https://phrvillage.com
X-WR-CALDESC:Events for The Village at Pacific Highlands Ranch
BEGIN:VTIMEZONE
TZID:UTC
BEGIN:STANDARD
TZOFFSETFROM:+0000
TZOFFSETTO:+0000
TZNAME:UTC
DTSTART:20230101T000000
END:STANDARD
END:VTIMEZONE
BEGIN:VEVENT
DTSTART;VALUE=DATE:20231207
DTEND;VALUE=DATE:20231208
DTSTAMP:20260421T103850
CREATED:20231109T083808Z
LAST-MODIFIED:20231109T083808Z
UID:16892-1701907200-1701993599@phrvillage.com
SUMMARY:ICE Recovery + Wellness – 1 Year Anniversary Party
DESCRIPTION:All are welcome! \n
URL:https://phrvillage.com/happenings/ice-recovery-wellness-1-year-anniversary-party/
END:VEVENT
END:VCALENDAR