BEGIN:VCALENDAR
VERSION:2.0
PRODID:-//The Village at Pacific Highlands Ranch - ECPv4.9.13//NONSGML v1.0//EN
CALSCALE:GREGORIAN
METHOD:PUBLISH
X-WR-CALNAME:The Village at Pacific Highlands Ranch
X-ORIGINAL-URL:https://phrvillage.com
X-WR-CALDESC:Events for The Village at Pacific Highlands Ranch
BEGIN:VTIMEZONE
TZID:UTC
BEGIN:STANDARD
TZOFFSETFROM:+0000
TZOFFSETTO:+0000
TZNAME:UTC
DTSTART:20210101T000000
END:STANDARD
END:VTIMEZONE
BEGIN:VEVENT
DTSTART;TZID=UTC:20210424T173000
DTEND;TZID=UTC:20210424T193000
DTSTAMP:20260420T005729
CREATED:20210317T145434Z
LAST-MODIFIED:20210317T145434Z
UID:15162-1619285400-1619292600@phrvillage.com
SUMMARY:Live Music – Brass Quintet (talented local students performing)
DESCRIPTION:
URL:https://phrvillage.com/happenings/live-music-brass-quintet-talented-local-students-performing/
END:VEVENT
END:VCALENDAR