BEGIN:VCALENDAR
VERSION:2.0
PRODID:-//The Village at Pacific Highlands Ranch - ECPv4.9.13//NONSGML v1.0//EN
CALSCALE:GREGORIAN
METHOD:PUBLISH
X-WR-CALNAME:The Village at Pacific Highlands Ranch
X-ORIGINAL-URL:https://phrvillage.com
X-WR-CALDESC:Events for The Village at Pacific Highlands Ranch
BEGIN:VTIMEZONE
TZID:UTC
BEGIN:STANDARD
TZOFFSETFROM:+0000
TZOFFSETTO:+0000
TZNAME:UTC
DTSTART:20220101T000000
END:STANDARD
END:VTIMEZONE
BEGIN:VEVENT
DTSTART;VALUE=DATE:20220308
DTEND;VALUE=DATE:20220309
DTSTAMP:20260419T174622
CREATED:20220311T100112Z
LAST-MODIFIED:20220311T100112Z
UID:15971-1646697600-1646783999@phrvillage.com
SUMMARY:Pacific Social - Tuesday Date Night & 20% Off Takeout Orders
DESCRIPTION:
URL:https://phrvillage.com/happenings/pacific-social-tuesday-date-night-20-off-takeout-orders-2/2022-03-08/
END:VEVENT
END:VCALENDAR