BEGIN:VCALENDAR
VERSION:2.0
PRODID:-//The Village at Pacific Highlands Ranch - ECPv4.9.13//NONSGML v1.0//EN
CALSCALE:GREGORIAN
METHOD:PUBLISH
X-WR-CALNAME:The Village at Pacific Highlands Ranch
X-ORIGINAL-URL:https://phrvillage.com
X-WR-CALDESC:Events for The Village at Pacific Highlands Ranch
BEGIN:VTIMEZONE
TZID:UTC
BEGIN:STANDARD
TZOFFSETFROM:+0000
TZOFFSETTO:+0000
TZNAME:UTC
DTSTART:20220101T000000
END:STANDARD
END:VTIMEZONE
BEGIN:VEVENT
DTSTART;VALUE=DATE:20220208
DTEND;VALUE=DATE:20220209
DTSTAMP:20260419T143804
CREATED:20220208T125039Z
LAST-MODIFIED:20220208T125039Z
UID:15925-1644278400-1644364799@phrvillage.com
SUMMARY:PACIFIC SOCIAL – Tuesday Date Night & 20% Off Takeout Orders
DESCRIPTION:Special Date Night Menu featuring 2 entrees\, a pie to share & a bottle of wine for just $49.95 per couple.  For reservations\, please call 858-720-6645. \n
URL:https://phrvillage.com/happenings/pacific-social-tuesday-date-night-20-off-takeout-orders/2022-02-08/
END:VEVENT
END:VCALENDAR