BEGIN:VCALENDAR
VERSION:2.0
PRODID:-//The Village at Pacific Highlands Ranch - ECPv4.9.13//NONSGML v1.0//EN
CALSCALE:GREGORIAN
METHOD:PUBLISH
X-WR-CALNAME:The Village at Pacific Highlands Ranch
X-ORIGINAL-URL:https://phrvillage.com
X-WR-CALDESC:Events for The Village at Pacific Highlands Ranch
BEGIN:VTIMEZONE
TZID:UTC
BEGIN:STANDARD
TZOFFSETFROM:+0000
TZOFFSETTO:+0000
TZNAME:UTC
DTSTART:20230101T000000
END:STANDARD
END:VTIMEZONE
BEGIN:VEVENT
DTSTART;VALUE=DATE:20230214
DTEND;VALUE=DATE:20230215
DTSTAMP:20260421T073534
CREATED:20230111T113151Z
LAST-MODIFIED:20230111T113151Z
UID:16433-1676332800-1676419199@phrvillage.com
SUMMARY:Pacific Social – Valentine’s Day Special
DESCRIPTION:3 course dinner for Valentine’s Day \n
URL:https://phrvillage.com/happenings/pacific-social-valentines-day-special/
END:VEVENT
END:VCALENDAR