BEGIN:VCALENDAR
VERSION:2.0
PRODID:-//The Village at Pacific Highlands Ranch - ECPv4.9.13//NONSGML v1.0//EN
CALSCALE:GREGORIAN
METHOD:PUBLISH
X-WR-CALNAME:The Village at Pacific Highlands Ranch
X-ORIGINAL-URL:https://phrvillage.com
X-WR-CALDESC:Events for The Village at Pacific Highlands Ranch
BEGIN:VTIMEZONE
TZID:UTC
BEGIN:STANDARD
TZOFFSETFROM:+0000
TZOFFSETTO:+0000
TZNAME:UTC
DTSTART:20210101T000000
END:STANDARD
END:VTIMEZONE
BEGIN:VEVENT
DTSTART;TZID=UTC:20210213T110000
DTEND;TZID=UTC:20210213T140000
DTSTAMP:20260420T071418
CREATED:20210210T123034Z
LAST-MODIFIED:20210210T123034Z
UID:15073-1613214000-1613224800@phrvillage.com
SUMMARY:Pick Up Your Pre-Ordered Valentine’s Day Dinner To-Go @ Pacific Social
DESCRIPTION:
URL:https://phrvillage.com/happenings/pick-up-your-pre-ordered-valentines-day-dinner-to-go-pacific-social/2021-02-13/
LOCATION:Pacific Social
END:VEVENT
END:VCALENDAR