BEGIN:VCALENDAR
VERSION:2.0
PRODID:-//The Village at Pacific Highlands Ranch - ECPv4.9.13//NONSGML v1.0//EN
CALSCALE:GREGORIAN
METHOD:PUBLISH
X-WR-CALNAME:The Village at Pacific Highlands Ranch
X-ORIGINAL-URL:https://phrvillage.com
X-WR-CALDESC:Events for The Village at Pacific Highlands Ranch
BEGIN:VTIMEZONE
TZID:UTC
BEGIN:STANDARD
TZOFFSETFROM:+0000
TZOFFSETTO:+0000
TZNAME:UTC
DTSTART:20220101T000000
END:STANDARD
END:VTIMEZONE
BEGIN:VEVENT
DTSTART;TZID=UTC:20220501T110000
DTEND;TZID=UTC:20220501T140000
DTSTAMP:20260419T142058
CREATED:20220426T144515Z
LAST-MODIFIED:20220426T144515Z
UID:16046-1651402800-1651413600@phrvillage.com
SUMMARY:Student Art Show & Fundraiser for UNICEF Ukrainian Refugee Children – Art Show\, Face Painting\, Live Music
DESCRIPTION:
URL:https://phrvillage.com/happenings/student-art-show-fundraiser-for-unicef-ukrainian-refugee-children-art-show-face-painting-live-music/
END:VEVENT
END:VCALENDAR