BEGIN:VCALENDAR
VERSION:2.0
PRODID:-//The Village at Pacific Highlands Ranch - ECPv4.9.13//NONSGML v1.0//EN
CALSCALE:GREGORIAN
METHOD:PUBLISH
X-WR-CALNAME:The Village at Pacific Highlands Ranch
X-ORIGINAL-URL:https://phrvillage.com
X-WR-CALDESC:Events for The Village at Pacific Highlands Ranch
BEGIN:VTIMEZONE
TZID:UTC
BEGIN:STANDARD
TZOFFSETFROM:+0000
TZOFFSETTO:+0000
TZNAME:UTC
DTSTART:20250101T000000
END:STANDARD
END:VTIMEZONE
BEGIN:VEVENT
DTSTART;TZID=UTC:20250828T180000
DTEND;TZID=UTC:20250828T200000
DTSTAMP:20260420T104658
CREATED:20250509T095127Z
LAST-MODIFIED:20250509T095127Z
UID:17920-1756404000-1756411200@phrvillage.com
SUMMARY:Summer & Songs: Lee Coulter
DESCRIPTION:For more details on the entire Summer and Songs lineup\, visit: Summer & Songs \n
URL:https://phrvillage.com/happenings/summer-songs-lee-coulter-3/
ATTACH;FMTTYPE=image/jpeg:https://phrvillage.com/wp-content/uploads/2025/05/PHR-SummerSongs2025-08.28-Lee-Coulter.jpg
END:VEVENT
END:VCALENDAR