BEGIN:VCALENDAR
VERSION:2.0
PRODID:-//The Village at Pacific Highlands Ranch - ECPv4.9.13//NONSGML v1.0//EN
CALSCALE:GREGORIAN
METHOD:PUBLISH
X-WR-CALNAME:The Village at Pacific Highlands Ranch
X-ORIGINAL-URL:https://phrvillage.com
X-WR-CALDESC:Events for The Village at Pacific Highlands Ranch
BEGIN:VTIMEZONE
TZID:UTC
BEGIN:STANDARD
TZOFFSETFROM:+0000
TZOFFSETTO:+0000
TZNAME:UTC
DTSTART:20210101T000000
END:STANDARD
END:VTIMEZONE
BEGIN:VEVENT
DTSTART;VALUE=DATE:20210214
DTEND;VALUE=DATE:20210215
DTSTAMP:20260420T071120
CREATED:20210210T123737Z
LAST-MODIFIED:20210210T123737Z
UID:15082-1613260800-1613347199@phrvillage.com
SUMMARY:Valentine’s Day Specials by Wokou
DESCRIPTION:Lovers’ Special\, ‘Pal’entines Party & Dine Your Heart Out Special for Pick Up at Wokou” Order: https://www.toasttab.com/wokouramenholidaykitchen/v3 Order 2/10/2021 – 2/13/2021 – Pick up on 2/14/2021 \n
URL:https://phrvillage.com/happenings/valentines-day-specials-by-wokou/
LOCATION:Wokou
END:VEVENT
END:VCALENDAR