BEGIN:VCALENDAR
VERSION:2.0
PRODID:-//The Village at Pacific Highlands Ranch - ECPv4.9.13//NONSGML v1.0//EN
CALSCALE:GREGORIAN
METHOD:PUBLISH
X-WR-CALNAME:The Village at Pacific Highlands Ranch
X-ORIGINAL-URL:https://phrvillage.com
X-WR-CALDESC:Events for The Village at Pacific Highlands Ranch
BEGIN:VTIMEZONE
TZID:UTC
BEGIN:STANDARD
TZOFFSETFROM:+0000
TZOFFSETTO:+0000
TZNAME:UTC
DTSTART:20220101T000000
END:STANDARD
END:VTIMEZONE
BEGIN:VEVENT
DTSTART;TZID=UTC:20220706T181500
DTEND;TZID=UTC:20220706T181500
DTSTAMP:20260421T103419
CREATED:20220629T080908Z
LAST-MODIFIED:20220629T080908Z
UID:16171-1657131300-1657131300@phrvillage.com
SUMMARY:Wednesday Runs with Fleet Feet
DESCRIPTION:
URL:https://phrvillage.com/happenings/wednesday-runs-with-fleet-feet/2022-07-06/
END:VEVENT
END:VCALENDAR